DSET taumm5_fine_2001040100.grd
TITLE MM5-NCEP
UNDEF -99.0
PDEF 73 73 lcc 33.347 34.896 37 37 30 60 29 20000 20000
XDEF 73 LINEAR 27.30 0.21
YDEF 65 LINEAR 27.12 0.21
ZDEF 10 LEVELS 1000 950 900 850 700 600 500 400 300 200
TDEF 5 LINEAR 00Z01Apr2001 12HR
VARS 49
usfc 0 99 SURFACE U-COMPONENT OF
WIND 10 99 U-COMPONENT OF WIND ON P LEVELS
vsfc 0 99 SURFACE V-COMPONENT OF WIND
v 10 99 V-COMPONENT OF WIND ON P LEVELS
wsfc 0 99 SURFACE VERTICAL VELOCITY W
w 10 99 VERTICAL VELOCITY W ON P LEVELS
ppsfc 0 99 PRESSURE PERTURBAT. ON THE SURFACE
pp 10 99 PRESSURE PERTURBAT. ON P LEVELS
rtsfc 0 99 ATM. RADIATION TENDENCY- SURFACE
rtend 10 99 ATM. RADIATION TEND. ON P LEVELS
qsfc 0 99 Q MIXING RATIO ON THE SURFACE
q 10 99 Q MIXING RATIO ON P LEVELS
rhsfc 0 99 RELATIVE HUMIDITY ON THE SURFACE
rh 10 99 RELATIVE HUMIDITY ON P LEVELS
clwsfc 0 99 Q MIXING RATIO OF CLOUD WATER(sfc)
clw 10 99 Q MIXING RATIO OF CLOUD WATER(lev)
rnwsfc 0 99 Q MIXING RATIO OF RAIN WATER(sfc)
rnw 10 99 Q MIXING RATIO OF RAIN WATER(lev)
tempsfc 0 99 TEMPERATURE ON THE SURFACE
temp 10 99 TEMPERATURE ON P-LEVELS
hsfc 0 99 GEOPOTENTIAL HEIGHT - SURFACE
hg 10 99 GEOPOTENTIAL HEIGHTS
psfc 0 99 SURFACE PRESSURE
pslv 0 99 SEA LEVEL PRESSURE
ter 0 99 TERRAIN ELEVATION
mapscl 0 99 MAP SCALE FACTOR
coriol 0 99 CORIOLIS PARAMETER
latdot 0 99 LATITUDE - DOT POINTS
londot 0 99 LONGITUDE - DOT POINTS
lnduse 0 99 LANDUSE CATEGORIES
snowcov 0 99 SNOW COVER
rainnon 0 99 ACCUMULATED NONCONVECTIVE RAIN
raincon 0 99 ACCUMULATED CONVECTIVE RAIN
raintot 0 99 ACCUMULATED TOTAL RAIN
pblhgt 0 99 PBL HEIGHT (M)
pblrgm 0 99 PBL REGIME (0-4)
shflux 0 99 SENSIBLE HEAT FLUX (W/M**2)
lhflux 0 99 LATENT HEAT FLUX (W/M**2)
ufric 0 99 FRICTIONAL VELOCITY (M/S)
swsfc 0 99 SFC DOWNWARD SHORT-WAVE RADIATION
lwsfc 0 99 SFC DOENWARD LONG-WAVE RADIATION
tsoil1 0 99 SOIL TEMP AT LEVEL 1
tsoil2 0 99 SOIL TEMP AT LEVEL 2
tsoil3 0 99 SOIL TEMP AT LEVEL 3
tsoil4 0 99 SOIL TEMP AT LEVEL 4
tsoil5 0 99 SOIL TEMP AT LEVEL 5
tsoil6 0 99 SOIL TEMP AT LEVEL 6
tempgrd 0 99 GROUND TEMPETATURE
tempres 0 99 INFINITE RESERVOIR SLAB TEMP.
ENDVARS
